BEGIN:VCALENDAR
VERSION:2.0
PRODID:-//wp-events-plugin.com//7.2.3.1//EN
TZID:America/Chicago
X-WR-TIMEZONE:America/Chicago
BEGIN:VEVENT
UID:4@musicteachersia.org
DTSTART;TZID=America/Chicago:20230414T091500
DTEND;TZID=America/Chicago:20230414T123000
DTSTAMP:20230418T215954Z
URL:https://musicteachersia.org/events/mtci-meeting-april-2023/
SUMMARY:MTCI Meeting April 2023
DESCRIPTION:Monthly meeting of the Music Teachers of Central Iowa\, a local
  affiliate of the Iowa Music Teachers Association.
ATTACH;FMTTYPE=image/jpeg:https://musicteachersia.org/wp-content/uploads/2
 022/09/piano-scaled.jpeg
CATEGORIES:Meetings
LOCATION:Lott Music Studio\, 401 Clark Avenue\, Suite 220\, Ames\, Iowa\, 5
 0010\, United States
X-APPLE-STRUCTURED-LOCATION;VALUE=URI;X-ADDRESS=401 Clark Avenue\, Suite 22
 0\, Ames\, Iowa\, 50010\, United States;X-APPLE-RADIUS=100;X-TITLE=Lott Mu
 sic Studio:geo:0,0
END:VEVENT
BEGIN:VTIMEZONE
TZID:America/Chicago
X-LIC-LOCATION:America/Chicago
BEGIN:DAYLIGHT
DTSTART:20230312T030000
TZOFFSETFROM:-0600
TZOFFSETTO:-0500
TZNAME:CDT
END:DAYLIGHT
END:VTIMEZONE
END:VCALENDAR